BEGIN:VCALENDAR
VERSION:2.0
PRODID:-//wp-events-plugin.com//7.2.3.1//EN
BEGIN:VEVENT
UID:19@sd-franken.de
DTSTART:20231212T191500Z
DTEND:20231212T212000Z
DTSTAMP:20231121T071853Z
URL:http://sd-franken.de/events/plus-clubabend-der-shooting-stars-2023-12-
 12/
SUMMARY:Plus Clubabend der Shooting Stars
DESCRIPTION:Plus Clubabend der Shooting Stars
ATTACH;FMTTYPE=image/jpeg:http://sd-franken.de/wp-content/uploads/2023/10/
 SSF-logo_SDF.jpg
CATEGORIES:Shooting Stars Fürth
LOCATION:Elan Fürth\, Kapellenstraße 47\, Fürth\, Bayern\, 90762\, Deuts
 chland
X-APPLE-STRUCTURED-LOCATION;VALUE=URI;X-ADDRESS=Kapellenstraße 47\, Fürth
 \, Bayern\, 90762\, Deutschland;X-APPLE-RADIUS=100;X-TITLE=Elan Fürth:geo
 :0,0
END:VEVENT
END:VCALENDAR