BEGIN:VCALENDAR
VERSION:2.0
PRODID:-//wp-events-plugin.com//7.2.3.1//EN
BEGIN:VEVENT
UID:421@sd-franken.de
DTSTART;TZID=Europe/Berlin:20240917T190000
DTEND;TZID=Europe/Berlin:20240917T213000
DTSTAMP:20240902T174328Z
URL:https://sd-franken.de/events/acr-c2-clubabend-2024-09-17/
SUMMARY:ACR C2 Clubabend
DESCRIPTION:
CATEGORIES:ACR Club
LOCATION:Bürgertreff "ISAR12"\, Isarstraße 12\, Erlangen\, 91052 \, Deuts
 chland
X-APPLE-STRUCTURED-LOCATION;VALUE=URI;X-ADDRESS=Isarstraße 12\, Erlangen\,
  91052 \, Deutschland;X-APPLE-RADIUS=100;X-TITLE=Bürgertreff \"ISAR12\":g
 eo:0,0
END:VEVENT
BEGIN:VTIMEZONE
TZID:Europe/Berlin
X-LIC-LOCATION:Europe/Berlin
BEGIN:DAYLIGHT
DTSTART:20240331T030000
TZOFFSETFROM:+0100
TZOFFSETTO:+0200
TZNAME:CEST
END:DAYLIGHT
END:VTIMEZONE
END:VCALENDAR