BEGIN:VCALENDAR
VERSION:2.0
PRODID:-//wp-events-plugin.com//7.2.3.1//EN
BEGIN:VEVENT
UID:5@sd-franken.de
DTSTART;TZID=Europe/Berlin:20231005T190000
DTEND;TZID=Europe/Berlin:20231005T213000
DTSTAMP:20231121T071620Z
URL:https://sd-franken.de/events/ms-clubabend-der-shooting-stars-2023-10-0
 5/
SUMMARY:MS-Clubabend der Shooting Stars
DESCRIPTION:Mainstream Clubabend der Shooting Stars Fürth e.V.
ATTACH;FMTTYPE=image/jpeg:https://sd-franken.de/wp-content/uploads/2023/10
 /SSF-logo_SDF.jpg
CATEGORIES:Shooting Stars Fürth
LOCATION:Elan Fürth\, Kapellenstraße 47\, Fürth\, Bayern\, 90762\, Deuts
 chland
X-APPLE-STRUCTURED-LOCATION;VALUE=URI;X-ADDRESS=Kapellenstraße 47\, Fürth
 \, Bayern\, 90762\, Deutschland;X-APPLE-RADIUS=100;X-TITLE=Elan Fürth:geo
 :0,0
END:VEVENT
BEGIN:VTIMEZONE
TZID:Europe/Berlin
X-LIC-LOCATION:Europe/Berlin
BEGIN:DAYLIGHT
DTSTART:20230326T030000
TZOFFSETFROM:+0100
TZOFFSETTO:+0200
TZNAME:CEST
END:DAYLIGHT
END:VTIMEZONE
END:VCALENDAR