BEGIN:VCALENDAR
VERSION:2.0
PRODID:-//wp-events-plugin.com//7.2.3.1//EN
BEGIN:VEVENT
UID:396@sd-franken.de
DTSTART:20240828T193000Z
DTEND:20240828T213000Z
DTSTAMP:20240906T205507Z
URL:https://sd-franken.de/events/the-sputniks-sdc-wechselndes-programm-plu
 s-a1-a2-siehe-homepage/
SUMMARY:The Sputniks SDC - wechselndes Programm Plus\, A1\, A2 - siehe Home
 page
DESCRIPTION:Bitte anmelden unter:\nhttps://nuudel.digitalcourage.de/Y2ExxYp
 MeRjwy3Wc\n\nDOORPRICE Club!!
ATTACH;FMTTYPE=image/jpeg:https://sd-franken.de/wp-content/uploads/2023/12
 /sputniks-logo-2.jpg
CATEGORIES:The Sputniks
LOCATION:TSV Lauf\, Röthenbacherstr. 61\, Lauf a.d. Pegnitz\, 91207 \, Deu
 tschland
X-APPLE-STRUCTURED-LOCATION;VALUE=URI;X-ADDRESS=Röthenbacherstr. 61\, Lauf
  a.d. Pegnitz\, 91207 \, Deutschland;X-APPLE-RADIUS=100;X-TITLE=TSV Lauf:g
 eo:0,0
END:VEVENT
END:VCALENDAR